Workbook
Name access_seeker: 'Overview and definitions'!$B$130:$E$130
Name active_SIM_eSIM_card: 'Overview and definitions'!$B$36:$E$36
Name actual_limit: 'Overview and definitions'!$B$127:$F$127
Name Africa: 'Overview and definitions'!$B$139
Name alternative_tariff: 'Overview and definitions'!$B$50:$E$50
Name Alternative_tariffs_nonEEA: #REF!
Name Alternative_tariffs_nonEEA: 'Transparency questionnaire'!$C$112:$C$114
Name Alternative_tariffs_nonEEA: #REF!
Name Americas: 'Overview and definitions'!$B$192
Name Asia: 'Overview and definitions'!$B$242
Name Australia_and_New_Zealand: 'Overview and definitions'!$C$287
Name balanced_revenues: 'Overview and definitions'!$B$90:$E$90
Name balanced_traffic: 'Overview and definitions'!$B$82:$E$82
Name bundle_revenues_M2M: 'Overview and definitions'!$B$111:$F$111
Name Central_Asia: 'Overview and definitions'!$C$242
Name charges: 'Overview and definitions'!#REF!
Name CIR_calculation: 'Overview and definitions'!$B$125:$F$125
Name connected_object___device: 'Overview and definitions'!$B$98:$E$98
Name connected_objects_devices_roaming_at_least_once_in_the_period: '[1]Overview and definitions'!#REF!
Name connected_objects_devices_roaming_at_least_once_in_the_period: 'Overview and definitions'!#REF!
Name control_mechanism_based_on_objective_indicators: 'Overview and definitions'!$B$122:$F$122
Name corporate_subscribers: 'Overview and definitions'!$B$123:$F$123
Name Countries_per_region: 'Overview and definitions'!$B$138
Name cut_off_limit: 'Overview and definitions'!$B$128:$F$128
Name data_roaming_limit: 'Overview and definitions'!$B$121:$F$121
Name Daten: [1]!Tabelle144[[#All],[Value]]
Name Daten: Tabelle144[[#All],[Value]]
Name Definition_Western_Balkan: 'Overview and definitions'!$C$261:$C$268
Name domestic_revenues: 'Overview and definitions'!$B$67:$E$67
Name domestic_revenues_M2M: 'Overview and definitions'!$B$106:$F$106
Name domestic_units: 'Overview and definitions'!$B$59:$E$59
Name Eastern_Asia: 'Overview and definitions'!$D$242
Name EEA_revenues: 'Overview and definitions'!$B$68:$E$68
Name EEA_roaming_enabled_subscribers: 'Overview and definitions'!$B$43:$E$43
Name EEA_units: 'Overview and definitions'!$B$60:$E$60
Name EU_EEA_roaming_revenues_M2M: 'Overview and definitions'!$B$107:$F$107
Name Europe: 'Overview and definitions'!$B$261
Name Examples_for_the_calculation_of_balanced_and_unbalanced_traffic: 'Overview and definitions'!$H$79:$O$88
Name Fair_Use_Policy__FUP: 'Overview and definitions'!$B$117:$F$117
Name FUP_mechanisms: 'Overview and definitions'!$B$118:$F$118
Name FUP_nonEEA: #REF!
Name FUP_nonEEA: 'Transparency questionnaire'!$C$90:$C$91
Name FUP_nonEEA: #REF!
Name In_how_many_countries_do_you_offer_5G_roaming_services?: #REF!
Name In_how_many_countries_do_you_offer_5G_roaming_services?: 'Transparency questionnaire'!$C$24
Name In_how_many_countries_do_you_offer_5G_roaming_services?: #REF!
Name inbound_traffic: 'Overview and definitions'!$B$80:$E$80
Name Latin_America_and_the_Caribbean: 'Overview and definitions'!$C$192
Name LPWAN: 'Overview and definitions'!$B$101:$E$101
Name Melanesia: 'Overview and definitions'!$D$287
Name Micronesia: 'Overview and definitions'!$E$287
Name mobile_subscription: 'Overview and definitions'!$B$38:$E$38
Name network_generations_and_technologies: 'Overview and definitions'!$B$131:$E$131
Name Non_EEA_Europe: 'Overview and definitions'!$D$261
Name non_terrestrial_network: 'Overview and definitions'!$B$40:$E$40
Name Northern_Africa: 'Overview and definitions'!$C$139
Name Northern_America: 'Overview and definitions'!$D$192
Name number_of_subscribers_that_were_roaming: 'Overview and definitions'!$B$44:$E$44
Name objects___devices_in_permanent_roaming: 'Overview and definitions'!$B$102:$E$102
Name Oceania: 'Overview and definitions'!$B$287

Sheet Overview and definitions
Q1: MNO
B2: Provider information | Q2: MVNO
Q3: MVNE
B4: Name:
B5: Address:
B6: Country: | C6: Liechtenstein | D6: Please select the country from the drop-down menu.
B7: Operator / service provider type: | C7: MNO | D7: Please select the operator / service provider type from the drop-down menu, i.e. whether the operator / service provider is an MNO, an MVNO or an MVNE.
B9: Telephone:
B10: E-mail:
B11: Website:
B12: Date of providing the information in this questionnaire:
B14: General comments:
A17: 1. | B17: Information about the questionnaire
B18: Structure of the questionnaire
B19: This file contains two questionnaires: the data questionnaire (formerly the international roaming benchmark questionnaire) and the transparency questionnaire (formerly the transparency and comparability questionnaire).
B20: The data questionnaire consists of three sheets: "Data questionnaire - mobile" and "Data - connected objects" are mandatory, while "Data - Western Balkan" may be filled out on a voluntary basis.
B21: The transparency questionnaire consists of two sheets which are both mandatory: "Transparency questionnaire" and "Transparency - per-country". "Transparency - per-country" is a supplement to the first questionnaire sheet: for this reason, questions in these two sheets are interlinked.
G22: Kommentar des AK, 19.10.2026
B23: Data import | G23: Achtung: Nicht mehr abgefragte Werte (in Fragebögen eingetragen als "collection suspended") sind nicht mehr in dieser Struktur enthalten.
B24: To facilitate automated data import for the data questionnaires, we have provided a data structure in the sheet "Data import structure". | G24: Im Vorjahr verwendete Datenimporte müssen für diesen Fragebogen entsprechend angepasst werden.
G25: Mitteilung von BEREC: "The questionnaire has been shortened, as some sections in the Data questionnaire for mobile and connected objects as well as the Transparency questionnaire, have been removed."
B26: Validation features in the sheet: Data questionnaire - mobile
B27: Please note that parts of the questionnaire have validation features which alert you to missing values. This is the case for the following questions: 1.1.1. Number of active SIMS with RLAH tariffs 1.1.4. Number of active SIMS with alternative tariffs 1.2.2. Number of active SIMS that were roaming at least once in the concerned quarter in the RLAH area 1.2.3. Number of active SIMS with RLAH services that were roaming at least once in the concerned period in the RLAH area 2.2. RLAH retail roaming consumption and revenues 2.3.1. RLAH + retail roaming consumption and revenues – for not providing the stable link 2.3.3. RLAH + retail roaming consumption and revenues – abusive/anomalous usage 2.3.4. RLAH + retail roaming consumption and revenues – exceeding FUP 2.4. alternative tariffs: retail roaming consumption and revenues
B29: How to submit comments
B30: After every section, a comment field is provided to allow for comments on points in this section. Please state which question your comment refers to (e.g. 3.4.) for each comment separately.
B31: All other fields are locked and comments in other fields will be disregarded.
A33: 1.2. | B33: Definitions
A34: 1.2.1. | B34: General | C34: Definition | F34: See also
B35: SIM | C35: By SIM, we refer to any kind of SIM card, eSIM, SoftSIM, etc | F35: active SIM
B36: active SIM | C36: A SIM is considered active if mobile services were consumed at least once in the concerned period (quarter) using this card. | F36: SIM
B37: device | C37: A device can be any hardware that uses SIMs to connect to telecommunications networks
B38: mobile subscription | C38: Mobile subscriptions are defined as the number of SIMs installed in mobile devices (for example: portable computing device such as a smartphone or tablet) for purposes of providing telecommunications services, namely voice, SMS or data services. This includes prepaid (also anonymous), postpaid and corporate subscriptions. Dedicated mobile data subscriptions should be included when reporting the number of subscriptions, the units consumed and revenues. Connected objects/devices subscriptions should be excluded from the sheet "Data questionnaire - mobile", but should be reported in the sheet "Data - connected objects". SIMs which are used at a fixed location should be excluded from data reporting if the devices are expected to use only fixed wireless telephony and/or broadband access. | F38: SIM
B39: operator/service provider type | C39: For the provider information, please fill in which type of operator/service provider you are (MNO, MVNO or MVNE). MNOs own their own mobile network infrastructure, while MVNOs and MVNEs gain access to the mobile network infrastructure of MNOs via hosting agreements.
B40: non-terrestrial network | C40: Non-terrestrial public mobile networks use radio access technologies, such as GSM/UMTS/LTE/5G-NR pico-cells combined with a satellite backhaul in order to provide services to passengers and crew. Examples of these networks may be mobile communications networks on board marine vessels (MCV services) as defined in Commission Decision 2010/166/EU or mobile communications networks on aircraft (MCA services) as defined in Commission Decision 2008/294/EC. For this section, please provide information on your retail users which have connected to non-terrestrial networks (within the RLAH area as well as RoW), as well as retail volumes and retail revenues. Please also provide the wholesale payments made to operators of non-terrestrial networks.
A42: 1.2.2. | B42: Mobile SIMs | C42: Definition | F42: See also
B43: RLAH roaming enabled SIMs | C43: An RLAH roaming enabled SIM means a SIM that is able to use RLAH roaming services while abroad with no need for any action prior to travelling abroad. Domestic-only refers to SIMs that are not able to use roaming services while abroad. | F43: active SIM
B44: number of SIMs that were roaming | C44: Number of SIMs (consumer and business) that connected to a roaming network at least once in the quarter. If a user roams twice within the same period, this user is counted as one SIM using roaming in this period. | F44: mobile subscription
B45: roaming day | C45: Given that Article 4(4) CIR 2016/2286 states that any day when a roaming customer has logged on to the domestic network shall be counted as a day of domestic presence of that customer, the term "roaming day" should be understood as a full day connected to one or several visited networks in the RLAH area. It is also considered a roaming day when the subscriber is logged on to a visited network in the RLAH area and the same day enters a third country outside the RLAH area. Total number of days that active SIMs were roaming in RLAH refers to the sum of the days of presence in a RLAH country for all the roaming SIMs of the service provider. For example, if a Romanian user spent 3 days in Greece and another Romanian user 5 days in Belgium, the service provider would report 8 days in total.
B46: SIMs with a corporate tariff | C46: Refers to users with subscriptions to a corporate tariff/business customers, which in many cases is a contract agreement with a company covering several mobile subscriptions. Subscriptions tailored to business customers should be included here. If a service provider has a contract with the company X for 10 mobile subscriptions, then list 10 subscribers with corporate tariffs. Non-business customers with one contract covering several mobile subscriptions should not be included here. The number of subscriptions indicated here is a subset of pre-paid and/or post-paid subscriptions, which means that all corporate subscribers are reported as either prepaid or postpaid (in the respective category), and again, separately, as corporate SIMs. | F46: mobile subscription
A48: 1.2.3. | B48: Retail roaming
...

Sheet Exchange rates
B1: Exchange rates
B2: For the calculation of the exchange rates, please use the following procedure:
B3: To align the determination of values in currencies other than the euro with the rule applied to intra-EU communications, the maximum charges in currencies other than the euro should be determined by applying the average of the reference exchange rates published in the Official Journal on 15 January, 15 February and 15 March of the relevant calendar year (averages are displayed in columns D and H). The same applies to the wholesale rates. Values for MDL are taken from the National Bank of Moldova, values for UAH from the National Bank of Ukraine.
B4: The publication for January 15 takes values from January 14. The publication for February 16 takes values from February 13. The publication for March 16 takes values from March 13.
B6: Currency | D6: 2025 | H6: 2026
D7: 45671 | E7: 45702 | F7: 45730 | G7: Average | H7: 46036 | I7: 46066 | J7: 46094 | K7: Average
B8: BGN | C8: Bulgarian lev | D8: 1.96 | E8: 1.96 | F8: 1.96 | G8: =ROUNDDOWN(AVERAGE(D8:F8), 2) -> 1.96
B9: CHF | C9: Swiss franc | D9: 0.94 | E9: 0.94 | F9: 0.96 | G9: =ROUNDDOWN(AVERAGE(D9:F9), 2) -> 0.94 | H9: 0.9333 | I9: 0.9121 | J9: 0.9034 | K9: =ROUNDDOWN(AVERAGE(H9:J9), 2) -> 0.91
B10: CZK | C10: Czech koruna | D10: 25.29 | E10: 25.04 | F10: 25.01 | G10: =ROUNDDOWN(AVERAGE(D10:F10), 2) -> 25.11 | H10: 24.262 | I10: 24.263 | J10: 24.437 | K10: =ROUNDDOWN(AVERAGE(H10:J10), 2) -> 24.32
B11: DKK | C11: Danish krone | D11: 7.46 | E11: 7.46 | F11: 7.46 | G11: =ROUNDDOWN(AVERAGE(D11:F11), 2) -> 7.46 | H11: 7.4723 | I11: 7.4709 | J11: 7.4726 | K11: =ROUNDDOWN(AVERAGE(H11:J11), 2) -> 7.47
B12: HUF | C12: Hungarian forint | D12: 412.05 | E12: 402.95 | F12: 399.48 | G12: =ROUNDDOWN(AVERAGE(D12:F12), 2) -> 404.82 | H12: 386.95 | I12: 379.08 | J12: 391.48 | K12: =ROUNDDOWN(AVERAGE(H12:J12), 2) -> 385.83
B13: ISK | C13: Iceland króna | D13: 144.9 | E13: 147.3 | F13: 145.9 | G13: =ROUNDDOWN(AVERAGE(D13:F13), 2) -> 146.03 | H13: 146.4 | I13: 145 | J13: 144.2 | K13: =ROUNDDOWN(AVERAGE(H13:J13), 2) -> 145.2
B14: MDL | C14: Moldovan leu | D14: 19.2906 | E14: 19.4572 | F14: 19.3963 | G14: =ROUNDDOWN(AVERAGE(D14:F14), 2) -> 19.38 | H14: 19.9036 | I14: 20.1168 | J14: 20.0351 | K14: =ROUNDDOWN(AVERAGE(H14:J14), 2) -> 20.01
B15: NOK | C15: Norwegian krone | D15: 11.72 | E15: 11.65 | F15: 11.62 | G15: =ROUNDDOWN(AVERAGE(D15:F15), 2) -> 11.66 | H15: 11.733 | I15: 11.326 | J15: 11.159 | K15: =ROUNDDOWN(AVERAGE(H15:J15), 2) -> 11.4
B16: PLN | C16: Polish zloty | D16: 4.27 | E16: 4.17 | F16: 4.17 | G16: =ROUNDDOWN(AVERAGE(D16:F16), 2) -> 4.2 | H16: 4.218 | I16: 4.215 | J16: 4.2675 | K16: =ROUNDDOWN(AVERAGE(H16:J16), 2) -> 4.23
B17: RON | C17: Romanian leu | D17: 4.97 | E17: 4.98 | F17: 4.98 | G17: =ROUNDDOWN(AVERAGE(D17:F17), 2) -> 4.97 | H17: 5.0897 | I17: 5.0946 | J17: 5.0947 | K17: =ROUNDDOWN(AVERAGE(H17:J17), 2) -> 5.09
B18: SEK | C18: Swedish krona | D18: 11.51 | E18: 11.24 | F18: 11.05 | G18: =ROUNDDOWN(AVERAGE(D18:F18), 2) -> 11.26 | H18: 10.723 | I18: 10.6254 | J18: 10.7545 | K18: =ROUNDDOWN(AVERAGE(H18:J18), 2) -> 10.7
B19: UAH | C19: Ukrainian hryvnia | D19: 43.3218 | E19: 43.4361 | F19: 45.0007 | G19: =ROUNDDOWN(AVERAGE(D19:F19), 2) -> 43.91 | H19: 50.2649 | I19: 51.0348 | J19: 50.956 | K19: =ROUNDDOWN(AVERAGE(H19:J19), 2) -> 50.75
B22: Links to 2026 OJEU Publications
B23: https://eur-lex.europa.eu/legal-content/EN/TXT/PDF/?uri=OJ:C_202600053
B24: https://eur-lex.europa.eu/legal-content/EN/TXT/PDF/?uri=OJ:C_202600520
B25: https://eur-lex.europa.eu/legal-content/EN/TXT/PDF/?uri=OJ:C_202601036

Sheet Data questionnaire - mobile
B1: Data questionnaire: Mobile services | D1: Kommentar des AK
C2: Respondent details | D2: Achtung: Der Fragebogen wurde gekürzt. Zeilen mit nicht mehr abgefragten Werte enthalten den Eintrag "collection suspended". Der Aufbau im Worksheet "Data import structure" wurde deswegen verändert.
B3: Respondent name | D3: Hinweise von BEREC:
B4: e-mail address | D4: • Stellen Sie sicher, dass sowohl die Umsätze (Revenues) als auch die Mengen (Units) vollständig und korrekt eingetragen werden.
B5: telephone number | D5: • Wir halten es für unerlässlich, klar zwischen den Antworten „0“, “not applicable” and “not available” zu unterscheiden.
D6: Aufgrund der verknüpften Tabellen wird standardmäßig „0“ bzw. "-" angezeigt. „0“ sollte jedoch nur bei einem Wert von 0 eingetragen werden.
B7: Part I | C7: mobile roaming | D7: Tragen Sie „not applicable“ oder „n/a“ ein, wenn ein Wert nicht ermittelt werden kann oder nicht zutrifft. Sie können auch „not available“ eintragen, wenn ein Wert erwartet wird, der dem Bediener zum Zeitpunkt des Ausfüllens des Fragebogens jedoch noch nicht vorliegt (möglicherweise zu einem späteren Zeitpunkt). Dies sollte im Kommentarfeld vermerkt werden.
B8: Section A - SIMs This section should be filled out by MVNOs and MNOs
A9: 1.1. | B9: Active SIMs Please provide the number of active subscribers in each tariff category | D9: As of 31.12.2025 | F9: … of which are corporate | H9: As of 31.03.2026 | J9: … of which are corporate | L9: As of 30.06.2026 | N9: … of which are corporate | P9: As of 30.09.2026 | R9: … of which are corporate
D10: prepaid | E10: postpaid | H10: prepaid | I10: postpaid | L10: prepaid | M10: postpaid | P10: prepaid | Q10: postpaid
A11: 1.1.1. | B11: Number of active SIMs with RLAH tariffs | C11: Jump to the definition of RLAH | D11: ='Data import structure'!$N$2 -> 0 | E11: ='Data import structure'!$N$3 -> 0 | F11: ='Data import structure'!$N$4 -> 0 | H11: ='Data import structure'!$N$5 -> 0 | I11: ='Data import structure'!$N$6 -> 0 | J11: ='Data import structure'!$N$7 -> 0 | L11: ='Data import structure'!$N$8 -> 0 | M11: ='Data import structure'!$N$9 -> 0 | N11: ='Data import structure'!$N$10 -> 0 | P11: ='Data import structure'!$N$11 -> 0 | Q11: ='Data import structure'!$N$12 -> 0 | R11: ='Data import structure'!$N$13 -> 0
C12: Jump to the definition of corporate subscribers
A13: 1.1.2. | B13: collection suspended
A14: 1.1.3. | B14: collection suspended
A15: 1.1.4. | B15: Number of active SIMs with alternative tariffs | C15: Jump to the definition | D15: ='Data import structure'!$N$14 -> 0 | E15: ='Data import structure'!$N$15 -> 0 | F15: ='Data import structure'!$N$16 -> 0 | H15: ='Data import structure'!$N$17 -> 0 | I15: ='Data import structure'!$N$18 -> 0 | J15: ='Data import structure'!$N$19 -> 0 | L15: ='Data import structure'!$N$20 -> 0 | M15: ='Data import structure'!$N$21 -> 0 | N15: ='Data import structure'!$N$22 -> 0 | P15: ='Data import structure'!$N$23 -> 0 | Q15: ='Data import structure'!$N$24 -> 0 | R15: ='Data import structure'!$N$25 -> 0
A17: 1.1.5. | B17: Total number of active roaming enabled SIMs in the RLAH area | C17: Jump to the definition | D17: ='Data import structure'!$N$26 -> 0 | E17: ='Data import structure'!$N$27 -> 0 | F17: ='Data import structure'!$N$28 -> 0 | H17: ='Data import structure'!$N$29 -> 0 | I17: ='Data import structure'!$N$30 -> 0 | J17: ='Data import structure'!$N$31 -> 0 | L17: ='Data import structure'!$N$32 -> 0 | M17: ='Data import structure'!$N$33 -> 0 | N17: ='Data import structure'!$N$34 -> 0 | P17: ='Data import structure'!$N$35 -> 0 | Q17: ='Data import structure'!$N$36 -> 0 | R17: ='Data import structure'!$N$37 -> 0
B18: The value reported in 1.1.5. shall include the number of active SIMs with RLAH tariffs, the number of active SIMs in RLAH+, and the number of active SIMs with alternative tariffs | D18: =D9 -> As of 31.12.2025 | F18: … of which are corporate | H18: =H9 -> As of 31.03.2026 | J18: … of which are corporate | L18: =L9 -> As of 30.06.2026 | N18: … of which are corporate | P18: =P9 -> As of 30.09.2026 | R18: … of which are corporate
D19: prepaid | E19: postpaid | H19: prepaid | I19: postpaid | L19: prepaid | M19: postpaid | P19: prepaid | Q19: postpaid
A20: 1.1.6. | B20: Total number of active SIMs that are not roaming enabled in the RLAH area ("domestic only") | D20: ='Data import structure'!$N$38 -> 0 | E20: ='Data import structure'!$N$39 -> 0 | F20: ='Data import structure'!$N$40 -> 0 | H20: ='Data import structure'!$N$41 -> 0 | I20: ='Data import structure'!$N$42 -> 0 | J20: ='Data import structure'!$N$43 -> 0 | L20: ='Data import structure'!$N$44 -> 0 | M20: ='Data import structure'!$N$45 -> 0 | N20: ='Data import structure'!$N$46 -> 0 | P20: ='Data import structure'!$N$47 -> 0 | Q20: ='Data import structure'!$N$48 -> 0 | R20: ='Data import structure'!$N$49 -> 0
A22: 1.1.7. | B22: Total number of active SIMs (sum of 1.1.5 and 1.1.6) | D22: =D17+D20 -> 0 | E22: =E17+E20 -> 0 | F22: =F17+F20 -> 0 | H22: =H17+H20 -> 0 | I22: =I17+I20 -> 0 | J22: =J17+J20 -> 0 | L22: =L17+L20 -> 0 | M22: =M17+M20 -> 0 | N22: =N17+N20 -> 0 | P22: =P17+P20 -> 0 | Q22: =Q17+Q20 -> 0 | R22: =R17+R20 -> 0
B23: In case information of totals available only, please indicate this number in one of above cells (in one of the components of total sum), which is closest to total number and clarify it in comments section
A25: 1.2. | B25: Roaming SIMs Please provide the number of roaming days or SIMs in each tariff category roaming in the specified region and period in the RLAH area | D25: =D9 -> As of 31.12.2025 | F25: … of which are corporate | H25: =H9 -> As of 31.03.2026 | J25: … of which are corporate | L25: =L9 -> As of 30.06.2026 | N25: … of which are corporate | P25: =P9 -> As of 30.09.2026 | R25: … of which are corporate
D26: prepaid | E26: postpaid | H26: prepaid | I26: postpaid | L26: prepaid | M26: postpaid | P26: prepaid | Q26: postpaid
A27: 1.2.1. | B27: Total number of days that active SIMs were roaming in the RLAH area | C27: Jump to the definition | D27: ='Data import structure'!$N$50 -> 0 | E27: ='Data import structure'!$N$51 -> 0 | F27: ='Data import structure'!$N$52 -> 0 | H27: ='Data import structure'!$N$53 -> 0 | I27: ='Data import structure'!$N$54 -> 0 | J27: ='Data import structure'!$N$55 -> 0 | L27: ='Data import structure'!$N$56 -> 0 | M27: ='Data import structure'!$N$57 -> 0 | N27: ='Data import structure'!$N$58 -> 0 | P27: ='Data import structure'!$N$59 -> 0 | Q27: ='Data import structure'!$N$60 -> 0 | R27: ='Data import structure'!$N$61 -> 0
A29: 1.2.2. | B29: Number of active SIMs that were roaming at least once in the concerned quarter in the RLAH area | C29: Jump to the definition | D29: ='Data import structure'!$N$62 -> 0 | E29: ='Data import structure'!$N$63 -> 0 | F29: ='Data import structure'!$N$64 -> 0 | H29: ='Data import structure'!$N$65 -> 0 | I29: ='Data import structure'!$N$66 -> 0 | J29: ='Data import structure'!$N$67 -> 0 | L29: ='Data import structure'!$N$68 -> 0 | M29: ='Data import structure'!$N$69 -> 0 | N29: ='Data import structure'!$N$70 -> 0 | P29: ='Data import structure'!$N$71 -> 0 | Q29: ='Data import structure'!$N$72 -> 0 | R29: ='Data import structure'!$N$73 -> 0
A31: 1.2.3. | B31: Number of active SIMs with RLAH services that were roaming at least once in the concerned quarter in the RLAH area | D31: ='Data import structure'!$N$74 -> 0 | E31: ='Data import structure'!$N$75 -> 0 | F31: ='Data import structure'!$N$76 -> 0 | H31: ='Data import structure'!$N$77 -> 0 | I31: ='Data import structure'!$N$78 -> 0 | J31: ='Data import structure'!$N$79 -> 0 | L31: ='Data import structure'!$N$80 -> 0 | M31: ='Data import structure'!$N$81 -> 0 | N31: ='Data import structure'!$N$82 -> 0 | P31: ='Data import structure'!$N$83 -> 0 | Q31: ='Data import structure'!$N$84 -> 0 | R31: ='Data import structure'!$N$85 -> 0
A33: 1.2.4. | B33: collection suspended
A35: 1.2.5. | B35: collection suspended
A37: 1.2.6. | B37: collection suspended
B39: Comments on this section
A42: 2. | B42: Section B - Retail roaming This section should be filled out by MVNOs and MNOs
A43: 2.1. | B43: Domestic consumption and revenues Please provide the volumes of domestic traffic per category as well as the total retail domestic revenue. | C43: Jump to the definition | D43: Q4 2025 | H43: Q1 2026 | L43: Q2 2026 | P43: Q3 2026
D44: units | H44: units | L44: units | P44: units
A45: 2.1.1.1. | B45: Domestic minutes | C45: calls made | D45: ='Data import structure'!$N$86 -> 0 | H45: ='Data import structure'!$N$87 -> 0 | L45: ='Data import structure'!$N$88 -> 0 | P45: ='Data import structure'!$N$89 -> 0
A46: 2.1.1.2. | C46: calls received | D46: ='Data import structure'!$N$90 -> 0 | H46: ='Data import structure'!$N$91 -> 0 | L46: ='Data import structure'!$N$92 -> 0 | P46: ='Data import structure'!$N$93 -> 0
A47: 2.1.2. | B47: Domestic SMS | D47: ='Data import structure'!$N$94 -> 0 | H47: ='Data import structure'!$N$95 -> 0 | L47: ='Data import structure'!$N$96 -> 0 | P47: ='Data import structure'!$N$97 -> 0
A48: 2.1.3. | B48: Domestic GB | D48: ='Data import structure'!$N$98 -> 0 | H48: ='Data import structure'!$N$99 -> 0 | L48: ='Data import structure'!$N$100 -> 0 | P48: ='Data import structure'!$N$101 -> 0
D49: revenues | H49: revenues | L49: revenues | P49: revenues
A50: 2.1.4. | B50: Total retail domestic revenues including roaming revenues of bundles | C50: Jump to the definition | D50: ='Data import structure'!$N$102 -> 0 | H50: ='Data import structure'!$N$103 -> 0 | L50: ='Data import structure'!$N$104 -> 0 | P50: ='Data import structure'!$N$105 -> 0
B52: RLAH and RLAH+ roaming consumption and revenues Please provide the volumes of retail roaming traffic in RLAH per tariff and category as well as the retail roaming revenue per category. | C52: Jump to the definition
...

Sheet Data - connected objects
B1: Data questionnaire: Connected objects and devices | D1: Kommentar des AK
C2: Respondent details | D2: Achtung: Der Fragebogen wurde gekürzt. Zeilen mit nicht mehr abgefragten Werte enthalten den Eintrag "collection suspended". Der Aufbau im Worksheet "Data import structure" wurde deswegen verändert.
B3: Respondent name | D3: Hinweise von BEREC:
B4: e-mail address | D4: • Stellen Sie sicher, dass sowohl die Umsätze (Revenues) als auch die Mengen (Units) vollständig und korrekt eingetragen werden.
B5: telephone number | D5: • Wir halten es für unerlässlich, klar zwischen den Antworten „0“, “not applicable” and “not available” zu unterscheiden.
D6: Aufgrund der verknüpften Tabellen wird standardmäßig „0“ bzw. "-" angezeigt. „0“ sollte jedoch nur bei einem Wert von 0 eingetragen werden.
B7: Part II - connected objects/devices | D7: Tragen Sie „not applicable“ oder „n/a“ ein, wenn ein Wert nicht ermittelt werden kann oder nicht zutrifft. Sie können auch „not available“ eintragen, wenn ein Wert erwartet wird, der dem Bediener zum Zeitpunkt des Ausfüllens des Fragebogens jedoch noch nicht vorliegt (möglicherweise zu einem späteren Zeitpunkt). Dies sollte im Kommentarfeld vermerkt werden.
B8: Section A - connected objects/devices
A9: 1.1. | B9: Active devices Please provide the number of active connected objects/devices in each tariff category | D9: ='Data questionnaire - mobile'!$D$9 -> As of 31.12.2025 | H9: ='Data questionnaire - mobile'!$H$9 -> As of 31.03.2026 | L9: ='Data questionnaire - mobile'!$L$9 -> As of 30.06.2026 | P9: ='Data questionnaire - mobile'!$P$9 -> As of 30.09.2026
A10: 1.1.1. | B10: Total number of active roaming-enabled connected objects/devices in the RLAH area | C10: Jump to the definition | D10: ='Data import structure'!$N$554 -> 0 | H10: ='Data import structure'!$N$555 -> 0 | L10: ='Data import structure'!$N$556 -> 0 | P10: ='Data import structure'!$N$557 -> 0
A12: 1.1.2. | B12: Total number of active connected objects/devices that are not roaming enabled in the RLAH area ("domestic-only") | D12: ='Data import structure'!$N$558 -> 0 | H12: ='Data import structure'!$N$559 -> 0 | L12: ='Data import structure'!$N$560 -> 0 | P12: ='Data import structure'!$N$561 -> 0
A14: 1.1.3. | B14: Total number of active connected objects/devices (sum of 1.1.1. and 1.1.2.) | D14: =D10+D12 -> 0 | H14: =H10+H12 -> 0 | L14: =L10+L12 -> 0 | P14: =P10+P12 -> 0
A16: 1.1.4. | B16: Number of connected objects/devices operating in LPWAN (NB-IoT and LTE-M) independently of national or roaming usage | C16: Jump to the definition | D16: ='Data import structure'!$N$562 -> 0 | H16: ='Data import structure'!$N$563 -> 0 | L16: ='Data import structure'!$N$564 -> 0 | P16: ='Data import structure'!$N$565 -> 0
A18: 1.2. | B18: Roaming devices
B19: Please provide the number of connected objects/devices roaming in the specified period in the RLAH area | D19: ='Data questionnaire - mobile'!$D$9 -> As of 31.12.2025 | H19: ='Data questionnaire - mobile'!$H$9 -> As of 31.03.2026 | L19: ='Data questionnaire - mobile'!$L$9 -> As of 30.06.2026 | P19: ='Data questionnaire - mobile'!$P$9 -> As of 30.09.2026
A20: 1.2.1. | B20: Number of active connected objects/devices roaming at least once in the concerned quarter in the RLAH area | C20: This figure should include any connected objects/devices reported under 1.2.2. further below. | D20: ='Data import structure'!$N$566 -> 0 | H20: ='Data import structure'!$N$567 -> 0 | L20: ='Data import structure'!$N$568 -> 0 | P20: ='Data import structure'!$N$569 -> 0
A22: 1.2.2. | B22: Number of active connected objects/devices roaming permanently in the concerned quarter in the RLAH area | C22: Jump to the definition | D22: ='Data import structure'!$N$570 -> 0 | H22: ='Data import structure'!$N$571 -> 0 | L22: ='Data import structure'!$N$572 -> 0 | P22: ='Data import structure'!$N$573 -> 0
B24: For those connected objects that do not use transmission technologies such as LTE-M, NB-IoT, 5G Standards for IoT, please, point out how you separate connected devices from regular devices (for example, by retail contract, by wholesale agreement, by kind of device, etc…) and your role as operator (visited network or roaming provider).
A25: 1.2.3.
B33: Comments on this section
B36: Section B - Retail roaming of connected objects/devices
A37: 2. | B37: Retail units and revenues per region | D37: ='Data questionnaire - mobile'!$D$43 -> Q4 2025 | H37: ='Data questionnaire - mobile'!$H$43 -> Q1 2026 | L37: ='Data questionnaire - mobile'!$L$43 -> Q2 2026 | P37: ='Data questionnaire - mobile'!$P$43 -> Q3 2026
A38: 2.1. | B38: Domestic | C38: Jump to the definition | D38: units | H38: units | L38: units | P38: units
A39: 2.1.1.1. | B39: collection suspended
A40: 2.1.1.2. | B40: collection suspended
A41: 2.1.2. | B41: collection suspended
A42: 2.1.3. | B42: GB | D42: ='Data import structure'!$N$574 -> 0 | H42: ='Data import structure'!$N$575 -> 0 | L42: ='Data import structure'!$N$576 -> 0 | P42: ='Data import structure'!$N$577 -> 0
D43: revenues | H43: revenues | L43: revenues | P43: revenues
A44: 2.1.4. | B44: Total retail domestic revenues including roaming revenues of bundles | D44: ='Data import structure'!$N$578 -> 0 | H44: ='Data import structure'!$N$579 -> 0 | L44: ='Data import structure'!$N$580 -> 0 | P44: ='Data import structure'!$N$581 -> 0
D46: ='Data questionnaire - mobile'!$D$43 -> Q4 2025 | H46: ='Data questionnaire - mobile'!$H$43 -> Q1 2026 | L46: ='Data questionnaire - mobile'!$L$43 -> Q2 2026 | P46: ='Data questionnaire - mobile'!$P$43 -> Q3 2026
A47: 2.2. | B47: RLAH roaming | C47: Jump to the definition | D47: units | E47: revenues | H47: units | I47: revenues | L47: units | M47: revenues | P47: units | Q47: revenues
A48: 2.2.1.1. | B48: collection suspended
A49: 2.2.1.2. | B49: collection suspended
A51: 2.2.2. | B51: collection suspended
A53: 2.2.3.1. | B53: GB | C53: total | D53: ='Data import structure'!$N$582 -> 0 | E53: ='Data import structure'!$N$594 -> 0 | H53: ='Data import structure'!$N$583 -> 0 | I53: ='Data import structure'!$N$595 -> 0 | L53: ='Data import structure'!$N$584 -> 0 | M53: ='Data import structure'!$N$596 -> 0 | P53: ='Data import structure'!$N$585 -> 0 | Q53: ='Data import structure'!$N$597 -> 0
A54: 2.2.3.2. | B54: =HYPERLINK("#'Overview and definitions'!B109", "Jump to the definition") -> Jump to the definition | C54: in LPWAN | D54: ='Data import structure'!$N$586 -> 0 | E54: ='Data import structure'!$N$598 -> 0 | H54: ='Data import structure'!$N$587 -> 0 | I54: ='Data import structure'!$N$599 -> 0 | L54: ='Data import structure'!$N$588 -> 0 | M54: ='Data import structure'!$N$600 -> 0 | P54: ='Data import structure'!$N$589 -> 0 | Q54: ='Data import structure'!$N$601 -> 0
A55: 2.2.3.3. | B55: =HYPERLINK("#'Overview and definitions'!B110", "Jump to the definition") -> Jump to the definition | C55: in permanent roaming | D55: ='Data import structure'!$N$590 -> 0 | E55: ='Data import structure'!$N$602 -> 0 | H55: ='Data import structure'!$N$591 -> 0 | I55: ='Data import structure'!$N$603 -> 0 | L55: ='Data import structure'!$N$592 -> 0 | M55: ='Data import structure'!$N$604 -> 0 | P55: ='Data import structure'!$N$593 -> 0 | Q55: ='Data import structure'!$N$605 -> 0
A57: 2.2.4 | B57: collection suspended | D57: ='Data questionnaire - mobile'!$D$43 -> Q4 2025 | H57: ='Data questionnaire - mobile'!$H$43 -> Q1 2026 | L57: ='Data questionnaire - mobile'!$L$43 -> Q2 2026 | P57: ='Data questionnaire - mobile'!$P$43 -> Q3 2026
A60: 2.3. | B60: RoW roaming | C60: Jump to the definition | D60: units | E60: revenues | H60: units | I60: revenues | L60: units | M60: revenues | P60: units | Q60: revenues
A61: 2.3.1.1. | B61: collection suspended
...

Sheet Data - Western Balkan
B1: Data questionnaire: Western Balkan
C2: Respondent details
B3: Respondent name
B4: e-mail address
B5: telephone number
B7: Part III - This section is requested by the European Commission and is voluntary. It concerns solely roaming usage in the Western Balkan (WB) region.
B8: For the purposes of monitoring the development of roaming market between the EU/EEA and WB area, the European Commission has requested BEREC to include questions on retail and wholesale roaming in this region. These questions are to be answered on a voluntary basis.
B12: List of Western Balkan countries
A13: 1. | B13: Roaming SIMs - MVNOs, MVNEs and MNOs Please provide the number of SIMs using roaming services in the Western Balkan region. | D13: ='Data questionnaire - mobile'!D9 -> As of 31.12.2025 | H13: ='Data questionnaire - mobile'!H9 -> As of 31.03.2026 | L13: ='Data questionnaire - mobile'!L9 -> As of 30.06.2026 | P13: ='Data questionnaire - mobile'!P9 -> As of 30.09.2026
A14: 1.1. | B14: Number of active SIMs that were roaming at least once in the concerned quarter in the WB region | D14: ='Data import structure'!$N$762 -> 0 | H14: ='Data import structure'!$N$763 -> 0 | L14: ='Data import structure'!$N$764 -> 0 | P14: ='Data import structure'!$N$765 -> 0
B17: Roaming in WB - MVNOs, MVNEs and MNOs | D17: ='Data questionnaire - mobile'!D43 -> Q4 2025 | H17: ='Data questionnaire - mobile'!H43 -> Q1 2026 | L17: ='Data questionnaire - mobile'!L43 -> Q2 2026 | P17: ='Data questionnaire - mobile'!P43 -> Q3 2026
A18: 2. | B18: Please provide the retail units consumed by SIMs roaming in the WB region and the corresponding retail revenues. Furthermore, please provide the wholesale payments made to WB operators in each of the categories. | D18: retail | F18: wholesale | H18: retail | J18: wholesale | L18: retail | N18: wholesale | P18: retail | R18: wholesale
D19: units | E19: revenues | F19: payments | H19: units | I19: revenues | J19: payments | L19: units | M19: revenues | N19: payments | P19: units | Q19: revenues | R19: payments
A20: 2.1.1. | B20: minutes | C20: calls made | D20: ='Data import structure'!$N$766 -> 0 | E20: ='Data import structure'!$N$782 -> 0 | F20: ='Data import structure'!$N$798 -> 0 | H20: ='Data import structure'!$N$767 -> 0 | I20: ='Data import structure'!$N$783 -> 0 | J20: ='Data import structure'!$N$799 -> 0 | L20: ='Data import structure'!$N$768 -> 0 | M20: ='Data import structure'!$N$784 -> 0 | N20: ='Data import structure'!$N$800 -> 0 | P20: ='Data import structure'!$N$769 -> 0 | Q20: ='Data import structure'!$N$785 -> 0 | R20: ='Data import structure'!$N$801 -> 0
A21: 2.1.2. | C21: calls received | D21: ='Data import structure'!$N$770 -> 0 | E21: ='Data import structure'!$N$786 -> 0 | F21: ='Data import structure'!$N$802 -> 0 | H21: ='Data import structure'!$N$771 -> 0 | I21: ='Data import structure'!$N$787 -> 0 | J21: ='Data import structure'!$N$803 -> 0 | L21: ='Data import structure'!$N$772 -> 0 | M21: ='Data import structure'!$N$788 -> 0 | N21: ='Data import structure'!$N$804 -> 0 | P21: ='Data import structure'!$N$773 -> 0 | Q21: ='Data import structure'!$N$789 -> 0 | R21: ='Data import structure'!$N$805 -> 0
A22: 2.2. | B22: SMS | D22: ='Data import structure'!$N$774 -> 0 | E22: ='Data import structure'!$N$790 -> 0 | F22: ='Data import structure'!$N$806 -> 0 | H22: ='Data import structure'!$N$775 -> 0 | I22: ='Data import structure'!$N$791 -> 0 | J22: ='Data import structure'!$N$807 -> 0 | L22: ='Data import structure'!$N$776 -> 0 | M22: ='Data import structure'!$N$792 -> 0 | N22: ='Data import structure'!$N$808 -> 0 | P22: ='Data import structure'!$N$777 -> 0 | Q22: ='Data import structure'!$N$793 -> 0 | R22: ='Data import structure'!$N$809 -> 0
A23: 2.3. | B23: GB | D23: ='Data import structure'!$N$778 -> 0 | E23: ='Data import structure'!$N$794 -> 0 | F23: ='Data import structure'!$N$810 -> 0 | H23: ='Data import structure'!$N$779 -> 0 | I23: ='Data import structure'!$N$795 -> 0 | J23: ='Data import structure'!$N$811 -> 0 | L23: ='Data import structure'!$N$780 -> 0 | M23: ='Data import structure'!$N$796 -> 0 | N23: ='Data import structure'!$N$812 -> 0 | P23: ='Data import structure'!$N$781 -> 0 | Q23: ='Data import structure'!$N$797 -> 0 | R23: ='Data import structure'!$N$813 -> 0
A24: 2.4. | B24: Retail roaming revenues from tariffs that include more than one mobile service | C24: Jump to the definition | E24: ='Data import structure'!$N$814 -> 0 | I24: ='Data import structure'!$N$815 -> 0 | M24: ='Data import structure'!$N$816 -> 0 | Q24: ='Data import structure'!$N$817 -> 0
B27: WB wholesale inbound roaming - MNOs | D27: ='Data questionnaire - mobile'!D43 -> Q4 2025 | H27: ='Data questionnaire - mobile'!H43 -> Q1 2026 | L27: ='Data questionnaire - mobile'!L43 -> Q2 2026 | P27: ='Data questionnaire - mobile'!P43 -> Q3 2026
A28: 3. | B28: Please list the units and revenues in the respective category. | D28: units | E28: revenues | H28: units | I28: revenues | L28: units | M28: revenues | P28: units | Q28: revenues
A29: 3.1. | B29: minutes | D29: ='Data import structure'!$N$818 -> 0 | E29: ='Data import structure'!$N$830 -> 0 | H29: ='Data import structure'!$N$819 -> 0 | I29: ='Data import structure'!$N$831 -> 0 | L29: ='Data import structure'!$N$820 -> 0 | M29: ='Data import structure'!$N$832 -> 0 | P29: ='Data import structure'!$N$821 -> 0 | Q29: ='Data import structure'!$N$833 -> 0
A30: 3.2. | B30: SMS | D30: ='Data import structure'!$N$822 -> 0 | E30: ='Data import structure'!$N$834 -> 0 | H30: ='Data import structure'!$N$823 -> 0 | I30: ='Data import structure'!$N$835 -> 0 | L30: ='Data import structure'!$N$824 -> 0 | M30: ='Data import structure'!$N$836 -> 0 | P30: ='Data import structure'!$N$825 -> 0 | Q30: ='Data import structure'!$N$837 -> 0
A31: 3.3. | B31: GB | D31: ='Data import structure'!$N$826 -> 0 | E31: ='Data import structure'!$N$838 -> 0 | H31: ='Data import structure'!$N$827 -> 0 | I31: ='Data import structure'!$N$839 -> 0 | L31: ='Data import structure'!$N$828 -> 0 | M31: ='Data import structure'!$N$840 -> 0 | P31: ='Data import structure'!$N$829 -> 0 | Q31: ='Data import structure'!$N$841 -> 0
B33: Comments on this section

Sheet Transparency questionnaire
M1: Drop-down options
C2: Transparency questionnaire | M2: standard | N2: yes
D3: Respondent details | N3: no
C4: Respondent name | N4: n.a.
C5: e-mail address | M5: technologies | N5: 3G
C6: telephone number | N6: 4G
N7: 5G
C8: Section A - Transparency of retail offers This section should be filled out by MVNOs, MVNEs and MNOs. | M8: reasons why not | N8: technical implementation with other European MNOs pending
C9: 1. Quality of service (QoS) | N9: host MNO does not provide access
B10: 1.1. | C10: Which technologies do you offer to your subscribers when roaming in the RLAH area? | D10: Please select from the drop-down menu | E10: If not, please select the most important reason why not | F10: If there are other reasons, please explain why | N10: access to this technology is too expensive
B11: 1.1.a | C11: 2G | N11: not yet available locally
B12: 1.1.b | C12: 3G | N12: other
B13: 1.1.c | C13: 4G | M13: technologies used where others would be available | N13: 4G (instead of 5G)
B14: 1.1.d | C14: 5G standalone | N14: other
B15: 1.1.e | C15: 5G non-standalone | M15: notification timing | N15: in advance
N16: with the introduction of the tariff plan
B17: 1.2. | C17: Do you offer these technologies to all users (prepaid, postpaid, consumers, corporate customers)? | D17: Please select from the drop-down menu | E17: If not, please explain why | N17: afterwards
B18: 1.2.a | C18: collection suspended | M18: tariff plans | N18: pre-paid
B19: 1.2.b | C19: collection suspended | N19: post-paid
B20: 1.2.c | C20: collection suspended | N20: corporate
B21: 1.2.d | C21: collection suspended | N21: pre-paid + post-paid
B22: 1.3. | C22: Do you differentiate between technologies when offering services at home? | N22: pre-paid + corporate
N23: post-paid + corporate
B24: 1.4. | C24: In how many RLAH countries do you offer 5G roaming services? | D24: =COUNTIF('Transparency - per-country'!E6:E37,"yes")+COUNTIF('Transparency - per-country'!F6:F37,"yes") -> 0 | E24: The adjacent cell is automatically filled according to your responses to Section E. | F24: Jump to Section E | N24: all tariff plans
N25: none
C26: Comments on this section | M26: services | N26: voice
N27: SMS
N28: data
C29: 2. Fair Use Policy (FUP) | M29: providing information | N29: actively
B30: 2.1. | C30: General questions | D30: Jump to the definitions | N30: passively
B31: 2.1.1. | C31: Which FUP mechanisms do you use? | D31: Please select from the drop-down menu | E31: Which types of tariff plans is this mechanism applied to? | F31: Have surcharges been levied for voice services? | G31: Have surcharges been levied for SMS services? | H31: Have surcharges been levied for data services? | I31: Why have you not applied this mechanism? | J31: If other, please explain | N31: both
B32: 2.1.1.a | C32: stable link | N32: n.a.
B33: 2.1.1.b | C33: open data bundle | M33: observation window | N33: 4 months
B34: 2.1.1.c | C34: control mechanism/objective indicators | N34: other
B35: 2.1.1.d | C35: long inactivity | K35: Please explain which other objective indicators you use | M35: information on observation window | N35: usage
B36: 2.1.1.e | C36: sequential use of multiple SIM cards | N36: presence
B37: 2.1.1.f | C37: other objective indicators | N37: both
B38: 2.1.1.g | C38: data roaming limit (for pre-paid offers only) | E38: pre-paid | M38: segments alternative tariffs | N38: consumer
N39: corporate
B40: 2.1.2. | C40: How would you rate the effectiveness of the following FUP elements in preventing abusive or anomalous use of RLAH? Please only rate the effectiveness of the mechanisms that you apply. | D40: Please select from the drop-down menu | E40: If required, please explain | N40: both
...

Sheet Transparency - per-country
C1: Section E | D1: Roaming offers in RLAH countries | N1: Drop-down options
B2: 14. | C2: In this section, please provide information on the technologies to which you have access on a per-country basis, and which types of subscribers have access to these technologies. Please select your answers from the drop-down menu. | G2: return to question 1.4. | N2: standard | O2: yes
O3: no
C4: Country | D4: Country code | E4: Do you have roaming agreements for 5G in place in this country for the provision of retail roaming services to your customers? | G4: Which types of subscribers can access 5G roaming in this country? | I4: For which segments is 5G roaming available in this country? | O4: n.a.
E5: for 5G standalone | F5: for 5G non-standalone | G5: 5G standalone | H5: 5G non-standalone | I5: 5G standalone | J5: 5G non-standalone | N5: tariff plans | O5: pre-paid
C6: Austria | D6: AT | O6: post-paid
C7: Belgium | D7: BE | O7: both
C8: Bulgaria | D8: BG | O8: n.a.
C9: Croatia | D9: HR | N9: segments | O9: corporate customers
C10: Cyprus | D10: CY | O10: consumers
C11: Czechia | D11: CZ | O11: both
C12: Denmark | D12: DK | O12: n.a.
C13: Estonia | D13: EE
C14: Finland | D14: FI
C15: France | D15: FR
C16: Germany | D16: DE
C17: Greece | D17: GR
C18: Hungary | D18: HU
C19: Iceland | D19: IS
C20: Ireland | D20: IE
C21: Italy | D21: IT
C22: Latvia | D22: LV
C23: Liechtenstein | D23: LI
C24: Lithuania | D24: LT
... C37: Ukraine | D37: UA
C39: Comments on this section
C42: Section F | D42: Roaming offers for non-RLAH area countries
B43: 15. | C43: In this section, please specify for which non-EU/EEA destinations you have special roaming offers. The categorisation into regions is based on the UN Statistics Division standard country or area codes for statistical use (with the exception of Europe, which has been split into Non-EU/EEA Europe and Western Balkan). Detailed information on the UN statistics can be found here: https://unstats.un.org/unsd/methodology/m49/overview/
C44: The full list of countries can be consulted further in the sheet Overview and definitions or by clicking on the region or sub-region.
E46: =HYPERLINK("#'Transparency questionnaire'!C90", "Jump back to question 2.3.2. on RLAH FUP") -> Jump back to question 2.3.2. on RLAH FUP | F46: =HYPERLINK("#'Transparency questionnaire'!C114", "Jump back to question 3.1.6. on alternative tariffs") -> Jump back to question 3.1.6. on alternative tariffs
C47: Region | D47: Sub-region | E47: How many countries in this region do you include in your RLAH FUP? | F47: How many countries in this region do you include with no surcharge or at a reduced rate in the alternative tariffs you offer (while a surcharge is applied for RLAH area destinations)?
C48: Africa | D48: Northern Africa
D49: Sub-Saharan Africa
D50: Outermost regions
C51: Americas | D51: Latin America and the Carribean
D52: Northern America
D53: Outermost regions
C54: Antarctica
C55: Asia | D55: Central Asia
D56: Eastern Asia
...

Sheet PivotTable
A1: Questionnaire | B1: (Alle)
A2: Operator | B2: (Alle)
A3: Type | B3: (Alle)
A5: Summe von Value | B5: Spaltenbeschriftungen
A6: Zeilenbeschriftungen | B6: As of 30.06.2022 | C6: As of 30.09.2022 | D6: As of 31.03.2022 | E6: As of 31.12.2021 | F6: Q1 2022 | G6: Q2 2022 | H6: Q3 2022 | I6: Q4 2021 | J6: Gesamtergebnis
A7: payments | F7: 0 | G7: 0 | H7: 0 | I7: 0 | J7: 0
A8: GB | F8: 0 | G8: 0 | H8: 0 | I8: 0 | J8: 0
A9: EU/EEA | F9: 0 | G9: 0 | H9: 0 | I9: 0 | J9: 0
A10: (Leer) | F10: 0 | G10: 0 | H10: 0 | I10: 0 | J10: 0
A11: (Leer) | F11: 0 | G11: 0 | H11: 0 | I11: 0 | J11: 0
A12: 3.1.3. | F12: 0 | G12: 0 | H12: 0 | I12: 0 | J12: 0
A13: 3.3.3. | F13: 0 | G13: 0 | H13: 0 | I13: 0 | J13: 0
A14: non-terrestrial | F14: 0 | G14: 0 | H14: 0 | I14: 0 | J14: 0
A15: (Leer) | F15: 0 | G15: 0 | H15: 0 | I15: 0 | J15: 0
A16: (Leer) | F16: 0 | G16: 0 | H16: 0 | I16: 0 | J16: 0
A17: 7.3. | F17: 0 | G17: 0 | H17: 0 | I17: 0 | J17: 0
A18: WB | F18: 0 | G18: 0 | H18: 0 | I18: 0 | J18: 0
... A429: 3.2. | F429: 0 | G429: 0 | H429: 0 | I429: 0 | J429: 0
A430: (Leer) | B430: 0 | C430: 0 | D430: 0 | E430: 0 | J430: 0
A431: (Leer) | B431: 0 | C431: 0 | D431: 0 | E431: 0 | J431: 0
A432: (Leer) | B432: 0 | C432: 0 | D432: 0 | E432: 0 | J432: 0
A433: (Leer) | B433: 0 | C433: 0 | D433: 0 | E433: 0 | J433: 0
A434: (Leer) | B434: 0 | C434: 0 | D434: 0 | E434: 0 | J434: 0
A435: 1.1. | B435: 0 | C435: 0 | D435: 0 | E435: 0 | J435: 0
A436: 1.1.1. | B436: 0 | C436: 0 | D436: 0 | E436: 0 | J436: 0
A437: 1.1.2. | B437: 0 | C437: 0 | D437: 0 | E437: 0 | J437: 0
A438: 1.1.4. | B438: 0 | C438: 0 | D438: 0 | E438: 0 | J438: 0
A439: 1.2.1. | B439: 0 | C439: 0 | D439: 0 | E439: 0 | J439: 0
A440: 1.2.2. | B440: 0 | C440: 0 | D440: 0 | E440: 0 | J440: 0
A441: SIMs | B441: 0 | C441: 0 | D441: 0 | E441: 0 | J441: 0
... A517: 1.1.4. | B517: 0 | C517: 0 | D517: 0 | E517: 0 | J517: 0
A518: Gesamtergebnis | B518: 0 | C518: 0 | D518: 0 | E518: 0 | F518: 0 | G518: 0 | H518: 0 | I518: 0 | J518: 0

Sheet Data import structure
A1: Operator | B1: Country | C1: Type | D1: Questionnaire | E1: Section | F1: UID | G1: Question | H1: Category | I1: Tariff | J1: Classification | K1: Service | L1: Region | M1: Quarter | N1: Value | P1: Kommentar des AK, 19.10.2026
A2: ='Overview and definitions'!$C$4 -> 0 | B2: ='Overview and definitions'!$C$6 -> Liechtenstein | C2: ='Overview and definitions'!$C$7 -> MNO | D2: ='Data questionnaire - mobile'!$B$1 -> Data questionnaire: Mobile services | E2: A - SIMs | F2: 1 | G2: 1.1.1. | H2: SIMs | I2: ='Data questionnaire - mobile'!$D$10 -> prepaid | J2: RLAH | M2: ='Data questionnaire - mobile'!$D$9 -> As of 31.12.2025 | P2: Achtung: Nicht mehr abgefragte Werte (in Fragebögen eingetragen als "collection suspended") sind nicht mehr in dieser Struktur enthalten.
A3: ='Overview and definitions'!$C$4 -> 0 | B3: ='Overview and definitions'!$C$6 -> Liechtenstein | C3: ='Overview and definitions'!$C$7 -> MNO | D3: ='Data questionnaire - mobile'!$B$1 -> Data questionnaire: Mobile services | E3: A - SIMs | F3: 2 | G3: 1.1.1. | H3: SIMs | I3: ='Data questionnaire - mobile'!$E$10 -> postpaid | J3: RLAH | M3: ='Data questionnaire - mobile'!$D$9 -> As of 31.12.2025 | P3: Im Vorjahr verwendete Datenimporte müssen für diesen Fragebogen entsprechend angepasst werden.
A4: ='Overview and definitions'!$C$4 -> 0 | B4: ='Overview and definitions'!$C$6 -> Liechtenstein | C4: ='Overview and definitions'!$C$7 -> MNO | D4: ='Data questionnaire - mobile'!$B$1 -> Data questionnaire: Mobile services | E4: A - SIMs | F4: 3 | G4: 1.1.1. | H4: SIMs | I4: ='Data questionnaire - mobile'!$F$9 -> … of which are corporate | J4: RLAH | M4: ='Data questionnaire - mobile'!$D$9 -> As of 31.12.2025
A5: ='Overview and definitions'!$C$4 -> 0 | B5: ='Overview and definitions'!$C$6 -> Liechtenstein | C5: ='Overview and definitions'!$C$7 -> MNO | D5: ='Data questionnaire - mobile'!$B$1 -> Data questionnaire: Mobile services | E5: A - SIMs | F5: 4 | G5: 1.1.1. | H5: SIMs | I5: ='Data questionnaire - mobile'!$H$10 -> prepaid | J5: RLAH | M5: ='Data questionnaire - mobile'!$H$9 -> As of 31.03.2026 | P5: Mitteilung von BEREC: "The questionnaire has been shortened, as some sections in the Data questionnaire for mobile and connected objects as well as the Transparency questionnaire, have been removed."
A6: ='Overview and definitions'!$C$4 -> 0 | B6: ='Overview and definitions'!$C$6 -> Liechtenstein | C6: ='Overview and definitions'!$C$7 -> MNO | D6: ='Data questionnaire - mobile'!$B$1 -> Data questionnaire: Mobile services | E6: A - SIMs | F6: 5 | G6: 1.1.1. | H6: SIMs | I6: ='Data questionnaire - mobile'!$I$10 -> postpaid | J6: RLAH | M6: ='Data questionnaire - mobile'!$H$9 -> As of 31.03.2026
A7: ='Overview and definitions'!$C$4 -> 0 | B7: ='Overview and definitions'!$C$6 -> Liechtenstein | C7: ='Overview and definitions'!$C$7 -> MNO | D7: ='Data questionnaire - mobile'!$B$1 -> Data questionnaire: Mobile services | E7: A - SIMs | F7: 6 | G7: 1.1.1. | H7: SIMs | I7: ='Data questionnaire - mobile'!$J$9 -> … of which are corporate | J7: RLAH | M7: ='Data questionnaire - mobile'!$H$9 -> As of 31.03.2026
A8: ='Overview and definitions'!$C$4 -> 0 | B8: ='Overview and definitions'!$C$6 -> Liechtenstein | C8: ='Overview and definitions'!$C$7 -> MNO | D8: ='Data questionnaire - mobile'!$B$1 -> Data questionnaire: Mobile services | E8: A - SIMs | F8: 7 | G8: 1.1.1. | H8: SIMs | I8: ='Data questionnaire - mobile'!$L$10 -> prepaid | J8: RLAH | M8: ='Data questionnaire - mobile'!$L$9 -> As of 30.06.2026
A9: ='Overview and definitions'!$C$4 -> 0 | B9: ='Overview and definitions'!$C$6 -> Liechtenstein | C9: ='Overview and definitions'!$C$7 -> MNO | D9: ='Data questionnaire - mobile'!$B$1 -> Data questionnaire: Mobile services | E9: A - SIMs | F9: 8 | G9: 1.1.1. | H9: SIMs | I9: ='Data questionnaire - mobile'!$M$10 -> postpaid | J9: RLAH | M9: ='Data questionnaire - mobile'!$L$9 -> As of 30.06.2026
A10: ='Overview and definitions'!$C$4 -> 0 | B10: ='Overview and definitions'!$C$6 -> Liechtenstein | C10: ='Overview and definitions'!$C$7 -> MNO | D10: ='Data questionnaire - mobile'!$B$1 -> Data questionnaire: Mobile services | E10: A - SIMs | F10: 9 | G10: 1.1.1. | H10: SIMs | I10: ='Data questionnaire - mobile'!$N$9 -> … of which are corporate | J10: RLAH | M10: ='Data questionnaire - mobile'!$L$9 -> As of 30.06.2026
A11: ='Overview and definitions'!$C$4 -> 0 | B11: ='Overview and definitions'!$C$6 -> Liechtenstein | C11: ='Overview and definitions'!$C$7 -> MNO | D11: ='Data questionnaire - mobile'!$B$1 -> Data questionnaire: Mobile services | E11: A - SIMs | F11: 10 | G11: 1.1.1. | H11: SIMs | I11: ='Data questionnaire - mobile'!$P$10 -> prepaid | J11: RLAH | M11: ='Data questionnaire - mobile'!$P$9 -> As of 30.09.2026
A12: ='Overview and definitions'!$C$4 -> 0 | B12: ='Overview and definitions'!$C$6 -> Liechtenstein | C12: ='Overview and definitions'!$C$7 -> MNO | D12: ='Data questionnaire - mobile'!$B$1 -> Data questionnaire: Mobile services | E12: A - SIMs | F12: 11 | G12: 1.1.1. | H12: SIMs | I12: ='Data questionnaire - mobile'!$Q$10 -> postpaid | J12: RLAH | M12: ='Data questionnaire - mobile'!$P$9 -> As of 30.09.2026
A13: ='Overview and definitions'!$C$4 -> 0 | B13: ='Overview and definitions'!$C$6 -> Liechtenstein | C13: ='Overview and definitions'!$C$7 -> MNO | D13: ='Data questionnaire - mobile'!$B$1 -> Data questionnaire: Mobile services | E13: A - SIMs | F13: 12 | G13: 1.1.1. | H13: SIMs | I13: ='Data questionnaire - mobile'!$R$9 -> … of which are corporate | J13: RLAH | M13: ='Data questionnaire - mobile'!$P$9 -> As of 30.09.2026
A14: ='Overview and definitions'!$C$4 -> 0 | B14: ='Overview and definitions'!$C$6 -> Liechtenstein | C14: ='Overview and definitions'!$C$7 -> MNO | D14: ='Data questionnaire - mobile'!$B$1 -> Data questionnaire: Mobile services | E14: A - SIMs | F14: 13 | G14: ='Data questionnaire - mobile'!$A$15 -> 1.1.4. | H14: SIMs | I14: ='Data questionnaire - mobile'!$D$10 -> prepaid | J14: alternative | M14: ='Data questionnaire - mobile'!$D$9 -> As of 31.12.2025
A15: ='Overview and definitions'!$C$4 -> 0 | B15: ='Overview and definitions'!$C$6 -> Liechtenstein | C15: ='Overview and definitions'!$C$7 -> MNO | D15: ='Data questionnaire - mobile'!$B$1 -> Data questionnaire: Mobile services | E15: A - SIMs | F15: 14 | G15: ='Data questionnaire - mobile'!$A$15 -> 1.1.4. | H15: SIMs | I15: ='Data questionnaire - mobile'!$E$10 -> postpaid | J15: alternative | M15: ='Data questionnaire - mobile'!$D$9 -> As of 31.12.2025
A16: ='Overview and definitions'!$C$4 -> 0 | B16: ='Overview and definitions'!$C$6 -> Liechtenstein | C16: ='Overview and definitions'!$C$7 -> MNO | D16: ='Data questionnaire - mobile'!$B$1 -> Data questionnaire: Mobile services | E16: A - SIMs | F16: 15 | G16: ='Data questionnaire - mobile'!$A$15 -> 1.1.4. | H16: SIMs | I16: ='Data questionnaire - mobile'!$F$9 -> … of which are corporate | J16: alternative | M16: ='Data questionnaire - mobile'!$D$9 -> As of 31.12.2025
A17: ='Overview and definitions'!$C$4 -> 0 | B17: ='Overview and definitions'!$C$6 -> Liechtenstein | C17: ='Overview and definitions'!$C$7 -> MNO | D17: ='Data questionnaire - mobile'!$B$1 -> Data questionnaire: Mobile services | E17: A - SIMs | F17: 16 | G17: ='Data questionnaire - mobile'!$A$15 -> 1.1.4. | H17: SIMs | I17: ='Data questionnaire - mobile'!$H$10 -> prepaid | J17: alternative | M17: ='Data questionnaire - mobile'!$H$9 -> As of 31.03.2026
A18: ='Overview and definitions'!$C$4 -> 0 | B18: ='Overview and definitions'!$C$6 -> Liechtenstein | C18: ='Overview and definitions'!$C$7 -> MNO | D18: ='Data questionnaire - mobile'!$B$1 -> Data questionnaire: Mobile services | E18: A - SIMs | F18: 17 | G18: ='Data questionnaire - mobile'!$A$15 -> 1.1.4. | H18: SIMs | I18: ='Data questionnaire - mobile'!$I$10 -> postpaid | J18: alternative | M18: ='Data questionnaire - mobile'!$H$9 -> As of 31.03.2026
A19: ='Overview and definitions'!$C$4 -> 0 | B19: ='Overview and definitions'!$C$6 -> Liechtenstein | C19: ='Overview and definitions'!$C$7 -> MNO | D19: ='Data questionnaire - mobile'!$B$1 -> Data questionnaire: Mobile services | E19: A - SIMs | F19: 18 | G19: ='Data questionnaire - mobile'!$A$15 -> 1.1.4. | H19: SIMs | I19: ='Data questionnaire - mobile'!$J$9 -> … of which are corporate | J19: alternative | M19: ='Data questionnaire - mobile'!$H$9 -> As of 31.03.2026
A20: ='Overview and definitions'!$C$4 -> 0 | B20: ='Overview and definitions'!$C$6 -> Liechtenstein | C20: ='Overview and definitions'!$C$7 -> MNO | D20: ='Data questionnaire - mobile'!$B$1 -> Data questionnaire: Mobile services | E20: A - SIMs | F20: 19 | G20: ='Data questionnaire - mobile'!$A$15 -> 1.1.4. | H20: SIMs | I20: ='Data questionnaire - mobile'!$L$10 -> prepaid | J20: alternative | M20: ='Data questionnaire - mobile'!$L$9 -> As of 30.06.2026
A21: ='Overview and definitions'!$C$4 -> 0 | B21: ='Overview and definitions'!$C$6 -> Liechtenstein | C21: ='Overview and definitions'!$C$7 -> MNO | D21: ='Data questionnaire - mobile'!$B$1 -> Data questionnaire: Mobile services | E21: A - SIMs | F21: 20 | G21: ='Data questionnaire - mobile'!$A$15 -> 1.1.4. | H21: SIMs | I21: ='Data questionnaire - mobile'!$M$10 -> postpaid | J21: alternative | M21: ='Data questionnaire - mobile'!$L$9 -> As of 30.06.2026
A22: ='Overview and definitions'!$C$4 -> 0 | B22: ='Overview and definitions'!$C$6 -> Liechtenstein | C22: ='Overview and definitions'!$C$7 -> MNO | D22: ='Data questionnaire - mobile'!$B$1 -> Data questionnaire: Mobile services | E22: A - SIMs | F22: 21 | G22: ='Data questionnaire - mobile'!$A$15 -> 1.1.4. | H22: SIMs | I22: ='Data questionnaire - mobile'!$N$9 -> … of which are corporate | J22: alternative | M22: ='Data questionnaire - mobile'!$L$9 -> As of 30.06.2026
A23: ='Overview and definitions'!$C$4 -> 0 | B23: ='Overview and definitions'!$C$6 -> Liechtenstein | C23: ='Overview and definitions'!$C$7 -> MNO | D23: ='Data questionnaire - mobile'!$B$1 -> Data questionnaire: Mobile services | E23: A - SIMs | F23: 22 | G23: ='Data questionnaire - mobile'!$A$15 -> 1.1.4. | H23: SIMs | I23: ='Data questionnaire - mobile'!$P$10 -> prepaid | J23: alternative | M23: ='Data questionnaire - mobile'!$P$9 -> As of 30.09.2026
A24: ='Overview and definitions'!$C$4 -> 0 | B24: ='Overview and definitions'!$C$6 -> Liechtenstein | C24: ='Overview and definitions'!$C$7 -> MNO | D24: ='Data questionnaire - mobile'!$B$1 -> Data questionnaire: Mobile services | E24: A - SIMs | F24: 23 | G24: ='Data questionnaire - mobile'!$A$15 -> 1.1.4. | H24: SIMs | I24: ='Data questionnaire - mobile'!$Q$10 -> postpaid | J24: alternative | M24: ='Data questionnaire - mobile'!$P$9 -> As of 30.09.2026
A25: ='Overview and definitions'!$C$4 -> 0 | B25: ='Overview and definitions'!$C$6 -> Liechtenstein | C25: ='Overview and definitions'!$C$7 -> MNO | D25: ='Data questionnaire - mobile'!$B$1 -> Data questionnaire: Mobile services | E25: A - SIMs | F25: 24 | G25: ='Data questionnaire - mobile'!$A$15 -> 1.1.4. | H25: SIMs | I25: ='Data questionnaire - mobile'!$R$9 -> … of which are corporate | J25: alternative | M25: ='Data questionnaire - mobile'!$P$9 -> As of 30.09.2026
A26: ='Overview and definitions'!$C$4 -> 0 | B26: ='Overview and definitions'!$C$6 -> Liechtenstein | C26: ='Overview and definitions'!$C$7 -> MNO | D26: ='Data questionnaire - mobile'!$B$1 -> Data questionnaire: Mobile services | E26: A - SIMs | F26: 25 | G26: ='Data questionnaire - mobile'!$A$17 -> 1.1.5. | H26: SIMs | I26: ='Data questionnaire - mobile'!$D$10 -> prepaid | M26: ='Data questionnaire - mobile'!$D$9 -> As of 31.12.2025
A27: ='Overview and definitions'!$C$4 -> 0 | B27: ='Overview and definitions'!$C$6 -> Liechtenstein | C27: ='Overview and definitions'!$C$7 -> MNO | D27: ='Data questionnaire - mobile'!$B$1 -> Data questionnaire: Mobile services | E27: A - SIMs | F27: 26 | G27: ='Data questionnaire - mobile'!$A$17 -> 1.1.5. | H27: SIMs | I27: ='Data questionnaire - mobile'!$E$10 -> postpaid | M27: ='Data questionnaire - mobile'!$D$9 -> As of 31.12.2025
